BEGIN:VCALENDAR
VERSION:2.0
PRODID:-//Färsna gård och naturreservat - ECPv6.15.20//NONSGML v1.0//EN
CALSCALE:GREGORIAN
METHOD:PUBLISH
X-WR-CALNAME:Färsna gård och naturreservat
X-ORIGINAL-URL:https://www.farsnagard.se
X-WR-CALDESC:Händelser för Färsna gård och naturreservat
REFRESH-INTERVAL;VALUE=DURATION:PT1H
X-Robots-Tag:noindex
X-PUBLISHED-TTL:PT1H
BEGIN:VTIMEZONE
TZID:Europe/Stockholm
BEGIN:DAYLIGHT
TZOFFSETFROM:+0100
TZOFFSETTO:+0200
TZNAME:CEST
DTSTART:20240331T010000
END:DAYLIGHT
BEGIN:STANDARD
TZOFFSETFROM:+0200
TZOFFSETTO:+0100
TZNAME:CET
DTSTART:20241027T010000
END:STANDARD
BEGIN:DAYLIGHT
TZOFFSETFROM:+0100
TZOFFSETTO:+0200
TZNAME:CEST
DTSTART:20250330T010000
END:DAYLIGHT
BEGIN:STANDARD
TZOFFSETFROM:+0200
TZOFFSETTO:+0100
TZNAME:CET
DTSTART:20251026T010000
END:STANDARD
BEGIN:DAYLIGHT
TZOFFSETFROM:+0100
TZOFFSETTO:+0200
TZNAME:CEST
DTSTART:20260329T010000
END:DAYLIGHT
BEGIN:STANDARD
TZOFFSETFROM:+0200
TZOFFSETTO:+0100
TZNAME:CET
DTSTART:20261025T010000
END:STANDARD
END:VTIMEZONE
BEGIN:VEVENT
DTSTART;TZID=Europe/Stockholm:20250406T100000
DTEND;TZID=Europe/Stockholm:20250406T140000
DTSTAMP:20260424T131755
CREATED:20250314T151110Z
LAST-MODIFIED:20250314T151240Z
UID:851-1743933600-1743948000@www.farsnagard.se
SUMMARY:Kurs: fagning
DESCRIPTION:Söndag den 6 april samlas vi klockan 10 på Färsna gård och inleder kursen med en introduktion om ängshävden\, traditionellt och idag. Därefter tittar vi på olika aspekter på fagning och varför det är en så viktigt moment i ängsskötseln. Det handlar om vad som egentligen behöver göras samt vilka olika redskap som kan vara praktiska\, med mera. \n\n\n\nKursledare: Jörg HellkvistPris: 250:- kr \n\n\n\nKursen anordnas i samarbete med hliv.seBokning och betalning sker på hliv’s hemsida. Följ länken:https://hliv.se/fagningskurs250406
URL:https://www.farsnagard.se/event/fagning-farsna-gard/
LOCATION:Färsna gård\, Färsna gård 1\, Norrtälje\, 76173\, Sweden
END:VEVENT
BEGIN:VEVENT
DTSTART;TZID=Europe/Stockholm:20250412T110000
DTEND;TZID=Europe/Stockholm:20250412T150000
DTSTAMP:20260424T131755
CREATED:20250208T154601Z
LAST-MODIFIED:20250208T154603Z
UID:791-1744455600-1744470000@www.farsnagard.se
SUMMARY:Fagning av Färsnaängen
DESCRIPTION:Slåtterängen på Färsna gård fagas inför kommande blomning och slåtter. \n\n\n\nDet innebär att räfsa löv\, kvistar och annat. Vi samlas kl 11 vid biparken och håller på till ca kl 15. Kläder efter väder\, bra skor/kängor/stövlar och såklart matsäck och något att sitta på. \n\n\n\nKom och delta och lär dig mer om ängen.Vi kommer också ha aktiviteter kopplade till Naturskyddsföreningens kampanj ”Operation Rädda bina”.
URL:https://www.farsnagard.se/event/fagning-av-farsnaangen/
LOCATION:Färsna Gård\, Sverige
END:VEVENT
BEGIN:VEVENT
DTSTART;TZID=Europe/Stockholm:20250418T120000
DTEND;TZID=Europe/Stockholm:20250418T140000
DTSTAMP:20260424T131755
CREATED:20250208T165303Z
LAST-MODIFIED:20250208T165305Z
UID:812-1744977600-1744984800@www.farsnagard.se
SUMMARY:Äggjakt
DESCRIPTION:Välkomna att fira in påskhelgen med oss och djuren!\nVi anordnar ponnyridning kl 12-14 kostnad 75:- / varv\nÄggjakt i skogshagen kl 12-14 eller tills påskharens ägg tagit slut 50:- / person å hittat ägg.\nVi öppnar upp hos våra härliga får för mys å klappning 25:- / pp \n\n \nUnder resten av påskhelgen är gården öppen som vanligt 9-15. \nAlla djuren är ute i sina hagar.\nVälkomna!
URL:https://www.farsnagard.se/event/aggjakt/
LOCATION:Färsna Gård\, Sverige
ORGANIZER;CN="F%C3%A4rsna 4H":MAILTO:farsna@4h.se
END:VEVENT
BEGIN:VEVENT
DTSTART;TZID=Europe/Stockholm:20250427T100000
DTEND;TZID=Europe/Stockholm:20250427T150000
DTSTAMP:20260424T131755
CREATED:20250208T153052Z
LAST-MODIFIED:20250208T153053Z
UID:789-1745748000-1745766000@www.farsnagard.se
SUMMARY:Upplev skogen med Sebastian Kirppu
DESCRIPTION:Skogsbiologen Sebastian Kirppu är en välkänd naturvårdsförespråkare i skogsdebatten. Han kan som få andra berätta om livet i skogen och kalhyggesbrukets förödande effekter. \n\n\n\nHan inleder med ett föredrag i Lagårn på Färsna gård kl 10.00 och efter en fikastund tar vien tur ut i vårt nya naturreservat vid Färsna gård och upplever den finagammelskogen där. \n\n\n\nRusta dig med kläder efter väder\, stövlar eller kängoroch kikare om du har. Vi håller på som längst till kl 15.Anmälan via Naturskyddsföreningens hemsida:https://www.naturskyddsforeningen.se/engagera-dig/kalender/upplev-skogen-med-sebastian-kirppu-norrtalje-2025-04-27/
URL:https://www.farsnagard.se/event/upplev-skogen-med-sebastian-kirppu/
LOCATION:Färsna gård\, Färsna gård 1\, Norrtälje\, 76173\, Sweden
END:VEVENT
BEGIN:VEVENT
DTSTART;TZID=Europe/Stockholm:20250430T150000
DTEND;TZID=Europe/Stockholm:20250430T200000
DTSTAMP:20260424T131755
CREATED:20250210T153906Z
LAST-MODIFIED:20250424T133033Z
UID:831-1746025200-1746043200@www.farsnagard.se
SUMMARY:Valborgsfirande på Färsna gård
DESCRIPTION:Familjevänligt valborgsfirande på Färsna gård. Kaféet är öppet kl 10-20 med försäljning av Skärgårdsgymnasiets Bageri- och konditoriprogram.kl 15-18.30 är gården valborgsöppen med fårklappning\, fiskdamm och titta in hos våra djur. Försäljning av kokt och grillad korv samt dryck.Grillarna är igång från kl 15 för möjlighet att grilla egen picknick. \n\n\n\nKl 19 tänds en gemensam eld på gårdsplanen. Traditionsenlig körsång och vårtal av Robert Beronius. \n\n\n\nVälkomna!
URL:https://www.farsnagard.se/event/valborgsmassoafton/
END:VEVENT
END:VCALENDAR