BEGIN:VCALENDAR
VERSION:2.0
PRODID:-//Färsna gård och naturreservat - ECPv6.15.20//NONSGML v1.0//EN
CALSCALE:GREGORIAN
METHOD:PUBLISH
X-ORIGINAL-URL:https://www.farsnagard.se
X-WR-CALDESC:Händelser för Färsna gård och naturreservat
REFRESH-INTERVAL;VALUE=DURATION:PT1H
X-Robots-Tag:noindex
X-PUBLISHED-TTL:PT1H
BEGIN:VTIMEZONE
TZID:Europe/Stockholm
BEGIN:DAYLIGHT
TZOFFSETFROM:+0100
TZOFFSETTO:+0200
TZNAME:CEST
DTSTART:20230326T010000
END:DAYLIGHT
BEGIN:STANDARD
TZOFFSETFROM:+0200
TZOFFSETTO:+0100
TZNAME:CET
DTSTART:20231029T010000
END:STANDARD
BEGIN:DAYLIGHT
TZOFFSETFROM:+0100
TZOFFSETTO:+0200
TZNAME:CEST
DTSTART:20240331T010000
END:DAYLIGHT
BEGIN:STANDARD
TZOFFSETFROM:+0200
TZOFFSETTO:+0100
TZNAME:CET
DTSTART:20241027T010000
END:STANDARD
BEGIN:DAYLIGHT
TZOFFSETFROM:+0100
TZOFFSETTO:+0200
TZNAME:CEST
DTSTART:20250330T010000
END:DAYLIGHT
BEGIN:STANDARD
TZOFFSETFROM:+0200
TZOFFSETTO:+0100
TZNAME:CET
DTSTART:20251026T010000
END:STANDARD
END:VTIMEZONE
BEGIN:VEVENT
DTSTART;TZID=Europe/Stockholm:20241130T110000
DTEND;TZID=Europe/Stockholm:20241130T140000
DTSTAMP:20260424T061144
CREATED:20240307T135306Z
LAST-MODIFIED:20241120T084942Z
UID:434-1732964400-1732975200@www.farsnagard.se
SUMMARY:Julmarknad på Färsna
DESCRIPTION:Julmarknad på Färsna gård \n\n\n\nVälkommen till Färsna gårds Julmarknad i stämningsfull gårdsmiljö. \n\n\n\nLokalt producerat hantverk och delikatesser. Fårklappning och ponnyridningSlöjdaktivitet i LagårdenFörsäljning av julgröt\, smörgås och hamburgare \n\n\n\nKAFÉ och RASTSTUGA är öppet– kom och värm dig vid brasan! \n\n\n\nUnder julmarknaden kommer Skärgårdsgymnasiets elever från Bageri- och konditoriprogrammet att driva kaféet! \n\n\n\nTänk på att det är begränsat antal P-platser vid Färsna gård. Om möjlighet finns ta gärna en promenad till Färsna eller buss 651 från Norrtälje busstation. \n\n\n\nVälkomna!
URL:https://www.farsnagard.se/event/julmarknad-pa-farsna/
END:VEVENT
END:VCALENDAR