BEGIN:VCALENDAR
VERSION:2.0
PRODID:-//Färsna gård och naturreservat - ECPv6.15.20//NONSGML v1.0//EN
CALSCALE:GREGORIAN
METHOD:PUBLISH
X-WR-CALNAME:Färsna gård och naturreservat
X-ORIGINAL-URL:https://www.farsnagard.se
X-WR-CALDESC:Händelser för Färsna gård och naturreservat
REFRESH-INTERVAL;VALUE=DURATION:PT1H
X-Robots-Tag:noindex
X-PUBLISHED-TTL:PT1H
BEGIN:VTIMEZONE
TZID:Europe/Stockholm
BEGIN:DAYLIGHT
TZOFFSETFROM:+0100
TZOFFSETTO:+0200
TZNAME:CEST
DTSTART:20230326T010000
END:DAYLIGHT
BEGIN:STANDARD
TZOFFSETFROM:+0200
TZOFFSETTO:+0100
TZNAME:CET
DTSTART:20231029T010000
END:STANDARD
BEGIN:DAYLIGHT
TZOFFSETFROM:+0100
TZOFFSETTO:+0200
TZNAME:CEST
DTSTART:20240331T010000
END:DAYLIGHT
BEGIN:STANDARD
TZOFFSETFROM:+0200
TZOFFSETTO:+0100
TZNAME:CET
DTSTART:20241027T010000
END:STANDARD
BEGIN:DAYLIGHT
TZOFFSETFROM:+0100
TZOFFSETTO:+0200
TZNAME:CEST
DTSTART:20250330T010000
END:DAYLIGHT
BEGIN:STANDARD
TZOFFSETFROM:+0200
TZOFFSETTO:+0100
TZNAME:CET
DTSTART:20251026T010000
END:STANDARD
END:VTIMEZONE
BEGIN:VEVENT
DTSTART;TZID=Europe/Stockholm:20240615T100000
DTEND;TZID=Europe/Stockholm:20240615T160000
DTSTAMP:20260423T164930
CREATED:20240410T092354Z
LAST-MODIFIED:20240410T092634Z
UID:437-1718445600-1718467200@www.farsnagard.se
SUMMARY:Kurs - Nybörjarkurs i Lieslåtter
DESCRIPTION:Nybörjarkurs i lieslåtter för dig som vill lära dig använda lien för att sköta eller anläggaängar.I kursen ingår instruktioner i säkerhet\, inställning av lien\, knackning\, att bryna eggen\,slåtterteknik och skötsel av ängen.En tidig kurs för att du kan skaffa kunskapen och färdighet redan innan slåttersäsongenbörjar på riktigt. \n\n\n\nPris: 950 kr \n\n\n\nAnmälan till: Jörg Hellkvist\, jorg@hliv.se
URL:https://www.farsnagard.se/event/kurs-nyborjarkurs-i-lieslatter/
END:VEVENT
BEGIN:VEVENT
DTSTART;TZID=Europe/Stockholm:20240616T043000
DTEND;TZID=Europe/Stockholm:20240616T143000
DTSTAMP:20260423T164930
CREATED:20240410T092918Z
LAST-MODIFIED:20240410T092918Z
UID:439-1718512200-1718548200@www.farsnagard.se
SUMMARY:Kurs - Ängsflora som indikator i historiskt kulturlandskap
DESCRIPTION:Ängs- och betesmarker utgör ett viktigt biologiskt kulturarv. Indikatorarter berättar genomsin förekomst om kvaliteterna i dessa marker.En kulturhistorisk tolkning av kulturlandskapet runt Färsna gård där vi identifiera denhistoriska användning av marker med hjälp av den befintliga floran. \n\n\n\nOm du vill fördjupa dig lite mer kan du införskaffa/ladda ner boken ”Strån & blad” men det äringet krav för kursen. https://webbutiken.jordbruksverket.se/sv/artiklar/ovr640.html \n\n\n\nPris: 200 kr \n\n\n\nKursledare: Jörg Hellkvist och Lisel Hamring \n\n\n\nAnmälan via: Jörg Hellkvist\, jorg@hliv.se
URL:https://www.farsnagard.se/event/kurs-angsflora-som-indikator-i-historiskt-kulturlandskap/
END:VEVENT
BEGIN:VEVENT
DTSTART;TZID=Europe/Stockholm:20240621T010000
DTEND;TZID=Europe/Stockholm:20240621T040000
DTSTAMP:20260423T164930
CREATED:20240307T133001Z
LAST-MODIFIED:20240307T133002Z
UID:415-1718931600-1718942400@www.farsnagard.se
SUMMARY:Midsommarfirande
DESCRIPTION:Midsommarafton 2024 – preliminärt – info kommer senare i vår\n\n\n\n2024\, Midsommarafton vid Färsna – preliminärt program.13.00 midsommarstången kläds. Reses kl 13.30. 13.45 uppträdande av något slag. Ringdans kring midsommarstången börjar ca 14.30. Per Lodenius\, dansledare\, Torbjörn Grundberg\, dragspel\, Torbjörn Eklund flöjt. Servering m m. Traktor och lövad vagn. Entré.
URL:https://www.farsnagard.se/event/midsommarfirande/
END:VEVENT
BEGIN:VEVENT
DTSTART;TZID=Europe/Stockholm:20240625T170000
DTEND;TZID=Europe/Stockholm:20240625T200000
DTSTAMP:20260423T164930
CREATED:20240307T133306Z
LAST-MODIFIED:20240307T133306Z
UID:417-1719334800-1719345600@www.farsnagard.se
SUMMARY:Sommarkvällar med veteranfordon
DESCRIPTION:Fyra sommarkvällar med V-fordon. I år kör vi tisdagar. Preliminär tid\, för mer information kontakta Veterantraktorklubben.
URL:https://www.farsnagard.se/event/sommarkvallar-med-veteranfordon/
END:VEVENT
END:VCALENDAR