BEGIN:VCALENDAR
VERSION:2.0
PRODID:-//Färsna gård och naturreservat - ECPv6.15.20//NONSGML v1.0//EN
CALSCALE:GREGORIAN
METHOD:PUBLISH
X-WR-CALNAME:Färsna gård och naturreservat
X-ORIGINAL-URL:https://www.farsnagard.se
X-WR-CALDESC:Händelser för Färsna gård och naturreservat
REFRESH-INTERVAL;VALUE=DURATION:PT1H
X-Robots-Tag:noindex
X-PUBLISHED-TTL:PT1H
BEGIN:VTIMEZONE
TZID:Europe/Stockholm
BEGIN:DAYLIGHT
TZOFFSETFROM:+0100
TZOFFSETTO:+0200
TZNAME:CEST
DTSTART:20230326T010000
END:DAYLIGHT
BEGIN:STANDARD
TZOFFSETFROM:+0200
TZOFFSETTO:+0100
TZNAME:CET
DTSTART:20231029T010000
END:STANDARD
BEGIN:DAYLIGHT
TZOFFSETFROM:+0100
TZOFFSETTO:+0200
TZNAME:CEST
DTSTART:20240331T010000
END:DAYLIGHT
BEGIN:STANDARD
TZOFFSETFROM:+0200
TZOFFSETTO:+0100
TZNAME:CET
DTSTART:20241027T010000
END:STANDARD
BEGIN:DAYLIGHT
TZOFFSETFROM:+0100
TZOFFSETTO:+0200
TZNAME:CEST
DTSTART:20250330T010000
END:DAYLIGHT
BEGIN:STANDARD
TZOFFSETFROM:+0200
TZOFFSETTO:+0100
TZNAME:CET
DTSTART:20251026T010000
END:STANDARD
END:VTIMEZONE
BEGIN:VEVENT
DTSTART;TZID=Europe/Stockholm:20240525T000000
DTEND;TZID=Europe/Stockholm:20240525T235959
DTSTAMP:20260423T122306
CREATED:20240208T110721Z
LAST-MODIFIED:20240423T123128Z
UID:397-1716595200-1716681599@www.farsnagard.se
SUMMARY:Biologiska mångfaldens (lör)dag
DESCRIPTION:Fira Biologiska mångfaldens dag som infaller den 22 maj. Norrtälje Naturcentrum arrangerar ett program lördagen den 25 maj tillsammans med Roslagens Naturskyddsförening.
URL:https://www.farsnagard.se/event/biologiska-mangfaldens-sondag/
LOCATION:Färsna Gård\, Sverige
END:VEVENT
BEGIN:VEVENT
DTSTART;TZID=Europe/Stockholm:20240525T000000
DTEND;TZID=Europe/Stockholm:20240525T235959
DTSTAMP:20260423T122306
CREATED:20240208T123849Z
LAST-MODIFIED:20240208T124029Z
UID:401-1716595200-1716681599@www.farsnagard.se
SUMMARY:K9 Backyard 24-timmars
DESCRIPTION:Färsna 4H i samarbete med Kennelklubben.
URL:https://www.farsnagard.se/event/k9-backyard-24-timmars/
LOCATION:Färsna Gård\, Sverige
ORGANIZER;CN="F%C3%A4rsna 4H":MAILTO:farsna@4h.se
END:VEVENT
BEGIN:VEVENT
DTSTART;TZID=Europe/Stockholm:20240525T000000
DTEND;TZID=Europe/Stockholm:20240525T235959
DTSTAMP:20260423T122306
CREATED:20240208T124235Z
LAST-MODIFIED:20240208T124235Z
UID:403-1716595200-1716681599@www.farsnagard.se
SUMMARY:Plantmarknad på Färsna
DESCRIPTION:Plantmarknad på Färsna med Trädgårdsföreningen.
URL:https://www.farsnagard.se/event/plantmarknad-pa-farsna/
LOCATION:Färsna Gård\, Sverige
END:VEVENT
END:VCALENDAR