BEGIN:VCALENDAR
VERSION:2.0
PRODID:-//Färsna gård och naturreservat - ECPv6.15.20//NONSGML v1.0//EN
CALSCALE:GREGORIAN
METHOD:PUBLISH
X-ORIGINAL-URL:https://www.farsnagard.se
X-WR-CALDESC:Händelser för Färsna gård och naturreservat
REFRESH-INTERVAL;VALUE=DURATION:PT1H
X-Robots-Tag:noindex
X-PUBLISHED-TTL:PT1H
BEGIN:VTIMEZONE
TZID:Europe/Stockholm
BEGIN:DAYLIGHT
TZOFFSETFROM:+0100
TZOFFSETTO:+0200
TZNAME:CEST
DTSTART:20230326T010000
END:DAYLIGHT
BEGIN:STANDARD
TZOFFSETFROM:+0200
TZOFFSETTO:+0100
TZNAME:CET
DTSTART:20231029T010000
END:STANDARD
BEGIN:DAYLIGHT
TZOFFSETFROM:+0100
TZOFFSETTO:+0200
TZNAME:CEST
DTSTART:20240331T010000
END:DAYLIGHT
BEGIN:STANDARD
TZOFFSETFROM:+0200
TZOFFSETTO:+0100
TZNAME:CET
DTSTART:20241027T010000
END:STANDARD
BEGIN:DAYLIGHT
TZOFFSETFROM:+0100
TZOFFSETTO:+0200
TZNAME:CEST
DTSTART:20250330T010000
END:DAYLIGHT
BEGIN:STANDARD
TZOFFSETFROM:+0200
TZOFFSETTO:+0100
TZNAME:CET
DTSTART:20251026T010000
END:STANDARD
END:VTIMEZONE
BEGIN:VEVENT
DTSTART;TZID=Europe/Stockholm:20240402T000000
DTEND;TZID=Europe/Stockholm:20240404T235959
DTSTAMP:20260423T082630
CREATED:20240208T103637Z
LAST-MODIFIED:20240208T103808Z
UID:385-1712016000-1712275199@www.farsnagard.se
SUMMARY:Påsklovsläger hos Färsna 4H
DESCRIPTION:Kom till härliga Färsna Gård och umgås med våra olika djurslag\, men lite extra mycket med hästarna. Ni kommer att få prova på att rida\, köra häst och vagn\, hjälpa till med skötsel och omvårdnad av djuren\, leka samt träffa nya och gamla kompisar med samma intressen som dig \n\n\n\nPåsklovsläger 3 dagar tisdag-torsdag v 14 2/4-4/4\n\n\n\nKostnad: 950:- / pp samt ev medlemsavgift 300:-
URL:https://www.farsnagard.se/event/pasklovslager-hos-farsna-4h/
LOCATION:Färsna Gård\, Sverige
ORGANIZER;CN="F%C3%A4rsna 4H":MAILTO:farsna@4h.se
END:VEVENT
BEGIN:VEVENT
DTSTART;TZID=Europe/Stockholm:20240406T043000
DTEND;TZID=Europe/Stockholm:20240406T200000
DTSTAMP:20260423T082630
CREATED:20240208T104235Z
LAST-MODIFIED:20240208T104235Z
UID:390-1712377800-1712433600@www.farsnagard.se
SUMMARY:Årsmöte - Veterantraktorklubben
DESCRIPTION:Lördag 6 april 2024 kl 15-ca 20 – Årsmöte Bergsstugan. Info inom kort.
URL:https://www.farsnagard.se/event/arsmote-veterantraktorklubben/
END:VEVENT
BEGIN:VEVENT
DTSTART;TZID=Europe/Stockholm:20240430T000000
DTEND;TZID=Europe/Stockholm:20240430T235959
DTSTAMP:20260423T082630
CREATED:20240208T110401Z
LAST-MODIFIED:20240411T131934Z
UID:395-1714435200-1714521599@www.farsnagard.se
SUMMARY:Valborg på Färsna gård
DESCRIPTION:Fira Valborg på Färsna gård. Gården har extra öppet kl 17 – 19.30 och 4H håller i aktiviteterna. \n\n\n\nTräffa våra får och lamm i sin hage\, gos och klapp –  20 kr \n\n\n\nPonnyridning – 50 kr/varv \n\n\n\nFiskdamm med goda fiskar – 50 kr/fisk \n\n\n\nKafeét håller öppet och vi har våra grillplatser tända. \n\n\n\nVarmt välkomna!
URL:https://www.farsnagard.se/event/valborg-pa-farsna-2/
LOCATION:Färsna Gård\, Sverige
ORGANIZER;CN="F%C3%A4rsna 4H":MAILTO:farsna@4h.se
END:VEVENT
END:VCALENDAR