BEGIN:VCALENDAR
VERSION:2.0
PRODID:-//Färsna gård och naturreservat - ECPv6.15.20//NONSGML v1.0//EN
CALSCALE:GREGORIAN
METHOD:PUBLISH
X-WR-CALNAME:Färsna gård och naturreservat
X-ORIGINAL-URL:https://www.farsnagard.se
X-WR-CALDESC:Händelser för Färsna gård och naturreservat
REFRESH-INTERVAL;VALUE=DURATION:PT1H
X-Robots-Tag:noindex
X-PUBLISHED-TTL:PT1H
BEGIN:VTIMEZONE
TZID:Europe/Stockholm
BEGIN:DAYLIGHT
TZOFFSETFROM:+0100
TZOFFSETTO:+0200
TZNAME:CEST
DTSTART:20230326T010000
END:DAYLIGHT
BEGIN:STANDARD
TZOFFSETFROM:+0200
TZOFFSETTO:+0100
TZNAME:CET
DTSTART:20231029T010000
END:STANDARD
BEGIN:DAYLIGHT
TZOFFSETFROM:+0100
TZOFFSETTO:+0200
TZNAME:CEST
DTSTART:20240331T010000
END:DAYLIGHT
BEGIN:STANDARD
TZOFFSETFROM:+0200
TZOFFSETTO:+0100
TZNAME:CET
DTSTART:20241027T010000
END:STANDARD
BEGIN:DAYLIGHT
TZOFFSETFROM:+0100
TZOFFSETTO:+0200
TZNAME:CEST
DTSTART:20250330T010000
END:DAYLIGHT
BEGIN:STANDARD
TZOFFSETFROM:+0200
TZOFFSETTO:+0100
TZNAME:CET
DTSTART:20251026T010000
END:STANDARD
END:VTIMEZONE
BEGIN:VEVENT
DTSTART;TZID=Europe/Stockholm:20240210T110000
DTEND;TZID=Europe/Stockholm:20240210T160000
DTSTAMP:20260423T122818
CREATED:20240208T084534Z
LAST-MODIFIED:20240208T101901Z
UID:369-1707562800-1707580800@www.farsnagard.se
SUMMARY:Semla och Loppis
DESCRIPTION:Semla och Loppis hos Systrarna Matjord på Kaféet på Färsna! \n\n\n\nDet kommer också att finnas en hel del annat fika\, grillade mackor & pannkakor. \n\n\n\nvälkomna!
URL:https://www.farsnagard.se/event/369/
LOCATION:Färsna Gård\, Sverige
END:VEVENT
BEGIN:VEVENT
DTSTART;TZID=Europe/Stockholm:20240211T110000
DTEND;TZID=Europe/Stockholm:20240211T160000
DTSTAMP:20260423T122818
CREATED:20240208T101502Z
LAST-MODIFIED:20240208T101932Z
UID:375-1707649200-1707667200@www.farsnagard.se
SUMMARY:Semla och Loppis
DESCRIPTION:Semla och Loppis hos Systrarna Matjord på Kaféet på Färsna! \n\n\n\nDet kommer också att finnas en hel del annat fika\, grillade mackor & pannkakor. \n\n\n\nvälkomna!
URL:https://www.farsnagard.se/event/semla-och-loppis/
LOCATION:Färsna Gård\, Sverige
END:VEVENT
BEGIN:VEVENT
DTSTART;TZID=Europe/Stockholm:20240225T160000
DTEND;TZID=Europe/Stockholm:20240225T170000
DTSTAMP:20260423T122818
CREATED:20240208T102903Z
LAST-MODIFIED:20240208T102903Z
UID:380-1708876800-1708880400@www.farsnagard.se
SUMMARY:Årsmöte - Färsna 4H
DESCRIPTION:Nu är ni alla inbjudna till vårt årsmöte!Är du dessutom medlem i Färsna 4H så har du möjlighet att vara med och påverka med din röst 🍀Meddela oss via mail om du vill delta farsna@4h.seSöndag den 25/2 kl 16:00Välkomna!
URL:https://www.farsnagard.se/event/arsmote-farsna-4h/
LOCATION:Färsna Gård\, Sverige
ORGANIZER;CN="F%C3%A4rsna 4H":MAILTO:farsna@4h.se
END:VEVENT
END:VCALENDAR