BEGIN:VCALENDAR
VERSION:2.0
PRODID:-//Färsna gård och naturreservat - ECPv6.15.20//NONSGML v1.0//EN
CALSCALE:GREGORIAN
METHOD:PUBLISH
X-WR-CALNAME:Färsna gård och naturreservat
X-ORIGINAL-URL:https://www.farsnagard.se
X-WR-CALDESC:Händelser för Färsna gård och naturreservat
REFRESH-INTERVAL;VALUE=DURATION:PT1H
X-Robots-Tag:noindex
X-PUBLISHED-TTL:PT1H
BEGIN:VTIMEZONE
TZID:Europe/Stockholm
BEGIN:DAYLIGHT
TZOFFSETFROM:+0100
TZOFFSETTO:+0200
TZNAME:CEST
DTSTART:20220327T010000
END:DAYLIGHT
BEGIN:STANDARD
TZOFFSETFROM:+0200
TZOFFSETTO:+0100
TZNAME:CET
DTSTART:20221030T010000
END:STANDARD
BEGIN:DAYLIGHT
TZOFFSETFROM:+0100
TZOFFSETTO:+0200
TZNAME:CEST
DTSTART:20230326T010000
END:DAYLIGHT
BEGIN:STANDARD
TZOFFSETFROM:+0200
TZOFFSETTO:+0100
TZNAME:CET
DTSTART:20231029T010000
END:STANDARD
BEGIN:DAYLIGHT
TZOFFSETFROM:+0100
TZOFFSETTO:+0200
TZNAME:CEST
DTSTART:20240331T010000
END:DAYLIGHT
BEGIN:STANDARD
TZOFFSETFROM:+0200
TZOFFSETTO:+0100
TZNAME:CET
DTSTART:20241027T010000
END:STANDARD
END:VTIMEZONE
BEGIN:VEVENT
DTSTART;TZID=Europe/Stockholm:20231028T100000
DTEND;TZID=Europe/Stockholm:20231028T170000
DTSTAMP:20260424T004508
CREATED:20230927T115406Z
LAST-MODIFIED:20230927T115407Z
UID:349-1698487200-1698512400@www.farsnagard.se
SUMMARY:Återbruksverkstad - Färsna gård
DESCRIPTION:Återbruksverkstad kl. 10-12 och 13–15 för alla åldrar i lokal ”Lagårn” på Färsna med Annika Ekström\, konstnär på Cajsa Wargs återbruk i Rimbo. Systrarna Matjords kafé håller öppet och där kan man fika eller äta lunch under dagen. Arr: Annika Ekström i samarbete med Naturskyddsföreningen Roslagen och Norrtälje Naturcentrum.
URL:https://www.farsnagard.se/event/aterbruksverkstad-farsna-gard/
END:VEVENT
END:VCALENDAR