BEGIN:VCALENDAR
VERSION:2.0
PRODID:-//Färsna gård och naturreservat - ECPv6.15.20//NONSGML v1.0//EN
CALSCALE:GREGORIAN
METHOD:PUBLISH
X-WR-CALNAME:Färsna gård och naturreservat
X-ORIGINAL-URL:https://www.farsnagard.se
X-WR-CALDESC:Händelser för Färsna gård och naturreservat
REFRESH-INTERVAL;VALUE=DURATION:PT1H
X-Robots-Tag:noindex
X-PUBLISHED-TTL:PT1H
BEGIN:VTIMEZONE
TZID:Europe/Stockholm
BEGIN:DAYLIGHT
TZOFFSETFROM:+0100
TZOFFSETTO:+0200
TZNAME:CEST
DTSTART:20210328T010000
END:DAYLIGHT
BEGIN:STANDARD
TZOFFSETFROM:+0200
TZOFFSETTO:+0100
TZNAME:CET
DTSTART:20211031T010000
END:STANDARD
BEGIN:DAYLIGHT
TZOFFSETFROM:+0100
TZOFFSETTO:+0200
TZNAME:CEST
DTSTART:20220327T010000
END:DAYLIGHT
BEGIN:STANDARD
TZOFFSETFROM:+0200
TZOFFSETTO:+0100
TZNAME:CET
DTSTART:20221030T010000
END:STANDARD
BEGIN:DAYLIGHT
TZOFFSETFROM:+0100
TZOFFSETTO:+0200
TZNAME:CEST
DTSTART:20230326T010000
END:DAYLIGHT
BEGIN:STANDARD
TZOFFSETFROM:+0200
TZOFFSETTO:+0100
TZNAME:CET
DTSTART:20231029T010000
END:STANDARD
END:VTIMEZONE
BEGIN:VEVENT
DTSTART;TZID=Europe/Stockholm:20220904T110000
DTEND;TZID=Europe/Stockholm:20220904T140000
DTSTAMP:20260424T204903
CREATED:20220412T093927Z
LAST-MODIFIED:20220412T093928Z
UID:254-1662289200-1662300000@www.farsnagard.se
SUMMARY:Friluftslivets dag
DESCRIPTION:Arrangör: Norrtälje kommun\, Kultur & fritid \n\n\n\nPlats: Färsna gård
URL:https://www.farsnagard.se/event/friluftslivets-dag/
END:VEVENT
BEGIN:VEVENT
DTSTART;VALUE=DATE:20220917
DTEND;VALUE=DATE:20220918
DTSTAMP:20260424T204903
CREATED:20220125T220137Z
LAST-MODIFIED:20220125T220137Z
UID:100-1663372800-1663459199@www.farsnagard.se
SUMMARY:Färsnadagen - höstmarknad och aktiviteter
DESCRIPTION:
URL:https://www.farsnagard.se/event/farsnadagen-hostmarknad-och-aktiviteter/
LOCATION:Färsna Gård\, Sverige
END:VEVENT
END:VCALENDAR