BEGIN:VCALENDAR
VERSION:2.0
PRODID:-//Färsna gård och naturreservat - ECPv6.15.20//NONSGML v1.0//EN
CALSCALE:GREGORIAN
METHOD:PUBLISH
X-WR-CALNAME:Färsna gård och naturreservat
X-ORIGINAL-URL:https://www.farsnagard.se
X-WR-CALDESC:Händelser för Färsna gård och naturreservat
REFRESH-INTERVAL;VALUE=DURATION:PT1H
X-Robots-Tag:noindex
X-PUBLISHED-TTL:PT1H
BEGIN:VTIMEZONE
TZID:Europe/Stockholm
BEGIN:DAYLIGHT
TZOFFSETFROM:+0100
TZOFFSETTO:+0200
TZNAME:CEST
DTSTART:20240331T010000
END:DAYLIGHT
BEGIN:STANDARD
TZOFFSETFROM:+0200
TZOFFSETTO:+0100
TZNAME:CET
DTSTART:20241027T010000
END:STANDARD
BEGIN:DAYLIGHT
TZOFFSETFROM:+0100
TZOFFSETTO:+0200
TZNAME:CEST
DTSTART:20250330T010000
END:DAYLIGHT
BEGIN:STANDARD
TZOFFSETFROM:+0200
TZOFFSETTO:+0100
TZNAME:CET
DTSTART:20251026T010000
END:STANDARD
BEGIN:DAYLIGHT
TZOFFSETFROM:+0100
TZOFFSETTO:+0200
TZNAME:CEST
DTSTART:20260329T010000
END:DAYLIGHT
BEGIN:STANDARD
TZOFFSETFROM:+0200
TZOFFSETTO:+0100
TZNAME:CET
DTSTART:20261025T010000
END:STANDARD
END:VTIMEZONE
BEGIN:VEVENT
DTSTART;TZID=Europe/Stockholm:20251129T110000
DTEND;TZID=Europe/Stockholm:20251129T140000
DTSTAMP:20260425T133254
CREATED:20250822T143546Z
LAST-MODIFIED:20250822T143546Z
UID:888-1764414000-1764424800@www.farsnagard.se
SUMMARY:Julmarknad på Färsna gård
DESCRIPTION:11 – 14 Lördagen före 1.a advent bjuder Färsna gård in till traditionsenlig julmarknad i stämningsfulla miljöer \n\n\n\nFörsäljning\, fika och aktiviteter \n\n\n\nLämna gärna bilen hemma då det är ont om P-platser. Buss 651 går från busstationen till Färsna
URL:https://www.farsnagard.se/event/julmarknad-pa-farsna-gard-3/
END:VEVENT
END:VCALENDAR