BEGIN:VCALENDAR
VERSION:2.0
PRODID:-//Färsna gård och naturreservat - ECPv6.15.20//NONSGML v1.0//EN
CALSCALE:GREGORIAN
METHOD:PUBLISH
X-ORIGINAL-URL:https://www.farsnagard.se
X-WR-CALDESC:Händelser för Färsna gård och naturreservat
REFRESH-INTERVAL;VALUE=DURATION:PT1H
X-Robots-Tag:noindex
X-PUBLISHED-TTL:PT1H
BEGIN:VTIMEZONE
TZID:Europe/Stockholm
BEGIN:DAYLIGHT
TZOFFSETFROM:+0100
TZOFFSETTO:+0200
TZNAME:CEST
DTSTART:20240331T010000
END:DAYLIGHT
BEGIN:STANDARD
TZOFFSETFROM:+0200
TZOFFSETTO:+0100
TZNAME:CET
DTSTART:20241027T010000
END:STANDARD
BEGIN:DAYLIGHT
TZOFFSETFROM:+0100
TZOFFSETTO:+0200
TZNAME:CEST
DTSTART:20250330T010000
END:DAYLIGHT
BEGIN:STANDARD
TZOFFSETFROM:+0200
TZOFFSETTO:+0100
TZNAME:CET
DTSTART:20251026T010000
END:STANDARD
BEGIN:DAYLIGHT
TZOFFSETFROM:+0100
TZOFFSETTO:+0200
TZNAME:CEST
DTSTART:20260329T010000
END:DAYLIGHT
BEGIN:STANDARD
TZOFFSETFROM:+0200
TZOFFSETTO:+0100
TZNAME:CET
DTSTART:20261025T010000
END:STANDARD
END:VTIMEZONE
BEGIN:VEVENT
DTSTART;TZID=Europe/Stockholm:20250418T120000
DTEND;TZID=Europe/Stockholm:20250418T140000
DTSTAMP:20260424T144501
CREATED:20250208T165303Z
LAST-MODIFIED:20250208T165305Z
UID:812-1744977600-1744984800@www.farsnagard.se
SUMMARY:Äggjakt
DESCRIPTION:Välkomna att fira in påskhelgen med oss och djuren!\nVi anordnar ponnyridning kl 12-14 kostnad 75:- / varv\nÄggjakt i skogshagen kl 12-14 eller tills påskharens ägg tagit slut 50:- / person å hittat ägg.\nVi öppnar upp hos våra härliga får för mys å klappning 25:- / pp \n\n \nUnder resten av påskhelgen är gården öppen som vanligt 9-15. \nAlla djuren är ute i sina hagar.\nVälkomna!
URL:https://www.farsnagard.se/event/aggjakt/
LOCATION:Färsna Gård\, Sverige
ORGANIZER;CN="F%C3%A4rsna 4H":MAILTO:farsna@4h.se
END:VEVENT
END:VCALENDAR