BEGIN:VCALENDAR
VERSION:2.0
PRODID:-//Färsna gård och naturreservat - ECPv6.15.20//NONSGML v1.0//EN
CALSCALE:GREGORIAN
METHOD:PUBLISH
X-WR-CALNAME:Färsna gård och naturreservat
X-ORIGINAL-URL:https://www.farsnagard.se
X-WR-CALDESC:Händelser för Färsna gård och naturreservat
REFRESH-INTERVAL;VALUE=DURATION:PT1H
X-Robots-Tag:noindex
X-PUBLISHED-TTL:PT1H
BEGIN:VTIMEZONE
TZID:Europe/Stockholm
BEGIN:DAYLIGHT
TZOFFSETFROM:+0100
TZOFFSETTO:+0200
TZNAME:CEST
DTSTART:20240331T010000
END:DAYLIGHT
BEGIN:STANDARD
TZOFFSETFROM:+0200
TZOFFSETTO:+0100
TZNAME:CET
DTSTART:20241027T010000
END:STANDARD
BEGIN:DAYLIGHT
TZOFFSETFROM:+0100
TZOFFSETTO:+0200
TZNAME:CEST
DTSTART:20250330T010000
END:DAYLIGHT
BEGIN:STANDARD
TZOFFSETFROM:+0200
TZOFFSETTO:+0100
TZNAME:CET
DTSTART:20251026T010000
END:STANDARD
BEGIN:DAYLIGHT
TZOFFSETFROM:+0100
TZOFFSETTO:+0200
TZNAME:CEST
DTSTART:20260329T010000
END:DAYLIGHT
BEGIN:STANDARD
TZOFFSETFROM:+0200
TZOFFSETTO:+0100
TZNAME:CET
DTSTART:20261025T010000
END:STANDARD
END:VTIMEZONE
BEGIN:VEVENT
DTSTART;TZID=Europe/Stockholm:20250215T130000
DTEND;TZID=Europe/Stockholm:20250215T140000
DTSTAMP:20260424T101040
CREATED:20250208T162350Z
LAST-MODIFIED:20250208T164523Z
UID:798-1739624400-1739628000@www.farsnagard.se
SUMMARY:Ponnyridning
DESCRIPTION:Färsna 4H Gård anordnar öppen ( ingen förbokning) ponnyridningKön stänger 15 minuter innan avslutat ponnyridningstillfälle.Ponnyridning kostar 50 kr per varv.Vi ser helst att ni betalar med swish. \n\n\n\nSom anordnare av ponnyridningen förbehåller sig 4h´s personal och ungdomsledare att bedöma att alla ”ridturer” kan genomföras på ett säkert sätt. Medföljande vuxenperson till varje barn som rider ansvarar för barnets säkerhet och ungdomsledare och personal på 4H ansvarar för bedömning om häst och ryttare tillsammans kan rida utan att risk för olyckor förekommer.  \n\n\n\n4H reserverar sig för ev ändring i planerade ponnyridningsdagar pga av sjukdom eller andra oförutsedda händelser. Detta meddelas i så fall på 4H’s hemsida samt via facebook sidan\, så kika gärna in där innan ni planerar er utflykt
URL:https://www.farsnagard.se/event/ponnyridning/
ATTACH;FMTTYPE=image/jpeg:https://www.farsnagard.se/wp-content/uploads/2025/02/IMG_11851.jpg
ORGANIZER;CN="F%C3%A4rsna 4H":MAILTO:farsna@4h.se
END:VEVENT
END:VCALENDAR