BEGIN:VCALENDAR
VERSION:2.0
PRODID:-//Färsna gård och naturreservat - ECPv6.15.20//NONSGML v1.0//EN
CALSCALE:GREGORIAN
METHOD:PUBLISH
X-WR-CALNAME:Färsna gård och naturreservat
X-ORIGINAL-URL:https://www.farsnagard.se
X-WR-CALDESC:Händelser för Färsna gård och naturreservat
REFRESH-INTERVAL;VALUE=DURATION:PT1H
X-Robots-Tag:noindex
X-PUBLISHED-TTL:PT1H
BEGIN:VTIMEZONE
TZID:Europe/Stockholm
BEGIN:DAYLIGHT
TZOFFSETFROM:+0100
TZOFFSETTO:+0200
TZNAME:CEST
DTSTART:20230326T010000
END:DAYLIGHT
BEGIN:STANDARD
TZOFFSETFROM:+0200
TZOFFSETTO:+0100
TZNAME:CET
DTSTART:20231029T010000
END:STANDARD
BEGIN:DAYLIGHT
TZOFFSETFROM:+0100
TZOFFSETTO:+0200
TZNAME:CEST
DTSTART:20240331T010000
END:DAYLIGHT
BEGIN:STANDARD
TZOFFSETFROM:+0200
TZOFFSETTO:+0100
TZNAME:CET
DTSTART:20241027T010000
END:STANDARD
BEGIN:DAYLIGHT
TZOFFSETFROM:+0100
TZOFFSETTO:+0200
TZNAME:CEST
DTSTART:20250330T010000
END:DAYLIGHT
BEGIN:STANDARD
TZOFFSETFROM:+0200
TZOFFSETTO:+0100
TZNAME:CET
DTSTART:20251026T010000
END:STANDARD
END:VTIMEZONE
BEGIN:VEVENT
DTSTART;TZID=Europe/Stockholm:20240922T100000
DTEND;TZID=Europe/Stockholm:20240922T160000
DTSTAMP:20260424T044848
CREATED:20240410T093534Z
LAST-MODIFIED:20240917T133825Z
UID:443-1726999200-1727020800@www.farsnagard.se
SUMMARY:Inställd: Kurs - Restaurering av ängs- och hagmarker\, 21 och 22 september
DESCRIPTION:Restaurering av ängs- och hagmarker – 21-22 september kl. 10:00 – 16:00\n\n\n\nRestaurering av tidigare ängs- och hagmarker är ett effektivt sätt att återskapa högabiologiska värden.Under kursen går vi igenom målsättningen\, metoder och redskap.Vi kommer\, med Färsna gård som exempel\, titta på historiska kartor\, identifiera markersom kan restaureras\, bestämma metoder och insatser samt inleda restaureringsprocesseni praktiken. \n\n\n\nPris: 600 krAnmälan via: Jörg Hellkvist\, jorg@hliv.se
URL:https://www.farsnagard.se/event/kurs-restaurering-av-angs-och-hagmarker-21-och-22-september/
END:VEVENT
END:VCALENDAR