BEGIN:VCALENDAR
VERSION:2.0
PRODID:-//Färsna gård och naturreservat - ECPv6.15.20//NONSGML v1.0//EN
CALSCALE:GREGORIAN
METHOD:PUBLISH
X-ORIGINAL-URL:https://www.farsnagard.se
X-WR-CALDESC:Händelser för Färsna gård och naturreservat
REFRESH-INTERVAL;VALUE=DURATION:PT1H
X-Robots-Tag:noindex
X-PUBLISHED-TTL:PT1H
BEGIN:VTIMEZONE
TZID:Europe/Stockholm
BEGIN:DAYLIGHT
TZOFFSETFROM:+0100
TZOFFSETTO:+0200
TZNAME:CEST
DTSTART:20230326T010000
END:DAYLIGHT
BEGIN:STANDARD
TZOFFSETFROM:+0200
TZOFFSETTO:+0100
TZNAME:CET
DTSTART:20231029T010000
END:STANDARD
BEGIN:DAYLIGHT
TZOFFSETFROM:+0100
TZOFFSETTO:+0200
TZNAME:CEST
DTSTART:20240331T010000
END:DAYLIGHT
BEGIN:STANDARD
TZOFFSETFROM:+0200
TZOFFSETTO:+0100
TZNAME:CET
DTSTART:20241027T010000
END:STANDARD
BEGIN:DAYLIGHT
TZOFFSETFROM:+0100
TZOFFSETTO:+0200
TZNAME:CEST
DTSTART:20250330T010000
END:DAYLIGHT
BEGIN:STANDARD
TZOFFSETFROM:+0200
TZOFFSETTO:+0100
TZNAME:CET
DTSTART:20251026T010000
END:STANDARD
END:VTIMEZONE
BEGIN:VEVENT
DTSTART;TZID=Europe/Stockholm:20240921T100000
DTEND;TZID=Europe/Stockholm:20240921T160000
DTSTAMP:20260424T045957
CREATED:20240410T093304Z
LAST-MODIFIED:20240917T133753Z
UID:441-1726912800-1726934400@www.farsnagard.se
SUMMARY:Inställd: Kurs - Restaurering av ängs- och hagmarker 21 - 22 september
DESCRIPTION:Restaurering av ängs- och hagmarker – 21-22 september kl. 10:00 – 16:00\n\n\n\nRestaurering av tidigare ängs- och hagmarker är ett effektivt sätt att återskapa högabiologiska värden.Under kursen går vi igenom målsättningen\, metoder och redskap.Vi kommer\, med Färsna gård som exempel\, titta på historiska kartor\, identifiera markersom kan restaureras\, bestämma metoder och insatser samt inleda restaureringsprocesseni praktiken. \n\n\n\nPris: 600 krAnmälan via: Jörg Hellkvist\, jorg@hliv.se
URL:https://www.farsnagard.se/event/kurs-restaurering-av-angs-och-hagmarker-21-22-september/
END:VEVENT
BEGIN:VEVENT
DTSTART;TZID=Europe/Stockholm:20240921T110000
DTEND;TZID=Europe/Stockholm:20240921T140000
DTSTAMP:20260424T045957
CREATED:20240917T133708Z
LAST-MODIFIED:20240917T135220Z
UID:490-1726916400-1726927200@www.farsnagard.se
SUMMARY:Färsnadagen och friluftslivets dag
DESCRIPTION:Välkommen till Färsnadagen och Friluftslivetsdag på Färsna gård! \n\n\n\nÖppet hus i Färsna stenkvarn \n\n\n\nKäpphästhoppning\, ponnyridning och fårklappning hos 4H \n\n\n\nTipsrunda \n\n\n\nGissa svamparna \n\n\n\nSkräpplockardagen \n\n\n\nKorvgrillning \n\n\n\nSystrarna Matjords kafé är öppen mellan 11-16
URL:https://www.farsnagard.se/event/490/
END:VEVENT
END:VCALENDAR