BEGIN:VCALENDAR
VERSION:2.0
PRODID:-//Färsna gård och naturreservat - ECPv6.15.20//NONSGML v1.0//EN
CALSCALE:GREGORIAN
METHOD:PUBLISH
X-ORIGINAL-URL:https://www.farsnagard.se
X-WR-CALDESC:Händelser för Färsna gård och naturreservat
REFRESH-INTERVAL;VALUE=DURATION:PT1H
X-Robots-Tag:noindex
X-PUBLISHED-TTL:PT1H
BEGIN:VTIMEZONE
TZID:Europe/Stockholm
BEGIN:DAYLIGHT
TZOFFSETFROM:+0100
TZOFFSETTO:+0200
TZNAME:CEST
DTSTART:20230326T010000
END:DAYLIGHT
BEGIN:STANDARD
TZOFFSETFROM:+0200
TZOFFSETTO:+0100
TZNAME:CET
DTSTART:20231029T010000
END:STANDARD
BEGIN:DAYLIGHT
TZOFFSETFROM:+0100
TZOFFSETTO:+0200
TZNAME:CEST
DTSTART:20240331T010000
END:DAYLIGHT
BEGIN:STANDARD
TZOFFSETFROM:+0200
TZOFFSETTO:+0100
TZNAME:CET
DTSTART:20241027T010000
END:STANDARD
BEGIN:DAYLIGHT
TZOFFSETFROM:+0100
TZOFFSETTO:+0200
TZNAME:CEST
DTSTART:20250330T010000
END:DAYLIGHT
BEGIN:STANDARD
TZOFFSETFROM:+0200
TZOFFSETTO:+0100
TZNAME:CET
DTSTART:20251026T010000
END:STANDARD
END:VTIMEZONE
BEGIN:VEVENT
DTSTART;TZID=Europe/Stockholm:20240716T110000
DTEND;TZID=Europe/Stockholm:20240716T140000
DTSTAMP:20260424T012630
CREATED:20240702T120408Z
LAST-MODIFIED:20240702T120409Z
UID:475-1721127600-1721138400@www.farsnagard.se
SUMMARY:Sommarlovsdagar på Färsna gård
DESCRIPTION:Sommarlovsdagar på Färsna gård med Norrtälje Naturcentrum\n\n\n\n\n2-3 juli\n\n\n\n9-10 juli\n\n\n\n16-17 juli\n\n\n\n\nKl 11 – Sagostund med aktivitet under körsbärsträdet \n\n\n\nKl 12-12:30 – Skogsaktivitet med rörelse vid Norra vindskyddet \n\n\n\nKl 13 – Färsnastigen med uppdrag \n\n\n\nVälkomna!
URL:https://www.farsnagard.se/event/sommarlovsdagar-pa-farsna-gard-5/
LOCATION:Färsna Gård\, Sverige
END:VEVENT
BEGIN:VEVENT
DTSTART;TZID=Europe/Stockholm:20240716T170000
DTEND;TZID=Europe/Stockholm:20240716T200000
DTSTAMP:20260424T012630
CREATED:20240307T133611Z
LAST-MODIFIED:20240307T133611Z
UID:423-1721149200-1721160000@www.farsnagard.se
SUMMARY:Sommarkvällar med veterantraktorklubben
DESCRIPTION:Fyra sommarkvällar med V-fordon. I år kör vi tisdagar. Preliminär tid\, för mer information kontakta Veterantraktorklubben.
URL:https://www.farsnagard.se/event/sommarkvallar-med-veterantraktorklubben-2/
END:VEVENT
END:VCALENDAR