BEGIN:VCALENDAR
VERSION:2.0
PRODID:-//Färsna gård och naturreservat - ECPv6.15.20//NONSGML v1.0//EN
CALSCALE:GREGORIAN
METHOD:PUBLISH
X-ORIGINAL-URL:https://www.farsnagard.se
X-WR-CALDESC:Händelser för Färsna gård och naturreservat
REFRESH-INTERVAL;VALUE=DURATION:PT1H
X-Robots-Tag:noindex
X-PUBLISHED-TTL:PT1H
BEGIN:VTIMEZONE
TZID:Europe/Stockholm
BEGIN:DAYLIGHT
TZOFFSETFROM:+0100
TZOFFSETTO:+0200
TZNAME:CEST
DTSTART:20220327T010000
END:DAYLIGHT
BEGIN:STANDARD
TZOFFSETFROM:+0200
TZOFFSETTO:+0100
TZNAME:CET
DTSTART:20221030T010000
END:STANDARD
BEGIN:DAYLIGHT
TZOFFSETFROM:+0100
TZOFFSETTO:+0200
TZNAME:CEST
DTSTART:20230326T010000
END:DAYLIGHT
BEGIN:STANDARD
TZOFFSETFROM:+0200
TZOFFSETTO:+0100
TZNAME:CET
DTSTART:20231029T010000
END:STANDARD
BEGIN:DAYLIGHT
TZOFFSETFROM:+0100
TZOFFSETTO:+0200
TZNAME:CEST
DTSTART:20240331T010000
END:DAYLIGHT
BEGIN:STANDARD
TZOFFSETFROM:+0200
TZOFFSETTO:+0100
TZNAME:CET
DTSTART:20241027T010000
END:STANDARD
END:VTIMEZONE
BEGIN:VEVENT
DTSTART;TZID=Europe/Stockholm:20231130T064500
DTEND;TZID=Europe/Stockholm:20231130T080000
DTSTAMP:20260423T203723
CREATED:20230927T115621Z
LAST-MODIFIED:20230927T115651Z
UID:352-1701326700-1701331200@www.farsnagard.se
SUMMARY:Film på Färsna gård
DESCRIPTION:Vad kan en person göra för att mota klimatkrisen? Vad kan många tillsammans göra? Vad vill vi lämna efter oss till kommande generationer? Delar av svaren kanske vi kan få genom att se filmen Avtryck (Imprint) och därefter diskutera den medan vi dricker must med tilltugg. Filmen startar klockan 18.30 och visas i “Lagårn” på Färsna gård. Den är 75 minuter lång och är en samproduktion mellan Campfire Stories och Swedish TransitionNetwork. \n\n\n\nFör att vi ska kunna beräkna antalet platser och fika behöver du anmäla dig senast den 21 november till Ola Nordstrand på olanordstrand57@gmail.com eller 073 586 22 49.
URL:https://www.farsnagard.se/event/film-pa-farsna-gard/
END:VEVENT
END:VCALENDAR